BEGIN:VCALENDAR
VERSION:2.0
PRODID:-//Encircle - ECPv6.15.20//NONSGML v1.0//EN
CALSCALE:GREGORIAN
METHOD:PUBLISH
X-ORIGINAL-URL:https://encircle.org.au
X-WR-CALDESC:Events for Encircle
REFRESH-INTERVAL;VALUE=DURATION:PT1H
X-Robots-Tag:noindex
X-PUBLISHED-TTL:PT1H
BEGIN:VTIMEZONE
TZID:Australia/Brisbane
BEGIN:STANDARD
TZOFFSETFROM:+1000
TZOFFSETTO:+1000
TZNAME:AEST
DTSTART:20200101T000000
END:STANDARD
END:VTIMEZONE
BEGIN:VEVENT
DTSTART;TZID=Australia/Brisbane:20230307T100000
DTEND;TZID=Australia/Brisbane:20230307T100000
DTSTAMP:20260420T211849
CREATED:20230207T053634Z
LAST-MODIFIED:20230207T054207Z
UID:7874-1678183200-1678183200@encircle.org.au
SUMMARY:Thriving and Flourishing - free 4-week course
DESCRIPTION:Stress is a common and natural human response. However\, we can experience distress when there is an imbalance between the demands being made on us and our resources to cope. Encircle’s Pine Rivers Neighbourhood Centre’s Counselling Service is offering a FREE 4-week group focused on enhancing mental health and wellbeing. \nParticipants can engage in a conversation exploring: \n\nthe effects of stress on wellbeing\nyour response to stress\nstress management\ndeveloping a personal wellbeing toolkit.\n\nDates: Weekly from Tuesday 7th March 2023 to Tuesday 28th March 2023.\nTime: 10:00am – 12:00pm (morning tea will be provided) \n\nNo cost\nNo child minding.\n\nRSVPs: Andrew (Generalist Counsellor – Encircle) \nPhone:  3889 0063\nemail: andrewm@encircle.org.au
URL:https://encircle.org.au/events/thriving-and-flourishing-free-4-week-course/2023-03-07/
LOCATION:Encircle Pine Rivers (Lawnton)\, 865 Gympie Road\, Lawnton\, Queensland\, 4501\, Australia
CATEGORIES:Classes,Health,Psychological
ATTACH;FMTTYPE=image/jpeg:https://encircle.org.au/wp-content/uploads/2023/02/Stress-banner.jpg
GEO:27°16'40.7"S; 152°58'56.7"E
X-APPLE-STRUCTURED-LOCATION;VALUE=URI;X-ADDRESS=Encircle Pine Rivers (Lawnton) 865 Gympie Road Lawnton Queensland 4501 Australia;X-APPLE-RADIUS=500;X-TITLE=865 Gympie Road:geo: 152°58'56.7"E,27°16'40.7"S
END:VEVENT
BEGIN:VEVENT
DTSTART;TZID=Australia/Brisbane:20211006T100000
DTEND;TZID=Australia/Brisbane:20211006T120000
DTSTAMP:20260420T211849
CREATED:20210902T050054Z
LAST-MODIFIED:20210902T064421Z
UID:6756-1633514400-1633521600@encircle.org.au
SUMMARY:Circle of Security
DESCRIPTION:A relationship-based parenting program Supporting parents to build healthy and secure relationships with their children. \n\nWednesdays 6th October to 24th November 2021  (8-week program)\n10:00 am to 12:00 pm\n$30.00 or $10.00 for Healthcare card holders (note: cost is  negotiable)\nBOOKINGS ESSENTIAL – PLACES ARE LIMITED\nNo child minding available\nPDF Flyer\n\nPlease Contact Encircle Lawnton 3889 0063 or encircle@encircle.org.au
URL:https://encircle.org.au/events/circle-of-security/2021-10-06/
LOCATION:Queensland
CATEGORIES:Community Services,Psychological
ATTACH;FMTTYPE=image/png:https://encircle.org.au/wp-content/uploads/2018/01/hands-with-paper-people.png
END:VEVENT
END:VCALENDAR