BEGIN:VCALENDAR
VERSION:2.0
PRODID:-//Encircle - ECPv6.15.20//NONSGML v1.0//EN
CALSCALE:GREGORIAN
METHOD:PUBLISH
X-WR-CALNAME:Encircle
X-ORIGINAL-URL:https://encircle.org.au
X-WR-CALDESC:Events for Encircle
REFRESH-INTERVAL;VALUE=DURATION:PT1H
X-Robots-Tag:noindex
X-PUBLISHED-TTL:PT1H
BEGIN:VTIMEZONE
TZID:Australia/Brisbane
BEGIN:STANDARD
TZOFFSETFROM:+1000
TZOFFSETTO:+1000
TZNAME:AEST
DTSTART:20220101T000000
END:STANDARD
END:VTIMEZONE
BEGIN:VEVENT
DTSTART;TZID=Australia/Brisbane:20230626T100000
DTEND;TZID=Australia/Brisbane:20230626T113000
DTSTAMP:20260426T021924
CREATED:20230602T071628Z
LAST-MODIFIED:20230618T020542Z
UID:10494-1687773600-1687779000@encircle.org.au
SUMMARY:Konnecting Kids to Kulture (Lawnton)
DESCRIPTION:Celebrate NAIDOC week and join First nation elders for fun activities like storytelling\, painting\, art and more. Connect with First Nations history and culture these school holidays. \nFree event. Bookings essential – Limited spaces. \nWhere: Encircle Pine Rivers (Lawnton) Neighbourhood Centre\nWhen: Monday 26 June 2023 or Monday 3 July at 10am to 11:30am\nCost: FREE! \n To book your free ticket Click Here  \n Call 3889 0063 or email encircle@encircle.org.au for more information or queries. \n  \n  \n 
URL:https://encircle.org.au/events/konnecting-kids-to-kulture-lawnton/2023-06-26/
LOCATION:Encircle Pine Rivers (Lawnton)\, 865 Gympie Road\, Lawnton\, Queensland\, 4501\, Australia
CATEGORIES:Creative,Kids,Social Events
ATTACH;FMTTYPE=image/jpeg:https://encircle.org.au/wp-content/uploads/2023/06/Web-Tile_KKTK_2023-7.jpg
GEO:27°16'40.7"S; 152°58'56.7"E
X-APPLE-STRUCTURED-LOCATION;VALUE=URI;X-ADDRESS=Encircle Pine Rivers (Lawnton) 865 Gympie Road Lawnton Queensland 4501 Australia;X-APPLE-RADIUS=500;X-TITLE=865 Gympie Road:geo: 152°58'56.7"E,27°16'40.7"S
END:VEVENT
BEGIN:VEVENT
DTSTART;TZID=Australia/Brisbane:20230627T100000
DTEND;TZID=Australia/Brisbane:20230627T113000
DTSTAMP:20260426T021924
CREATED:20230602T072141Z
LAST-MODIFIED:20230606T105406Z
UID:10545-1687860000-1687865400@encircle.org.au
SUMMARY:Konnecting Kids to Kulture (Kallangur)
DESCRIPTION:Celebrate NAIDOC week and join First nation elders for fun activities like storytelling\, painting\, art and more. Connect with First Nations history and culture these school holidays. \nFree event. Bookings essential – Limited spaces. \nWhere: Encircle Kallangur Neighbourhood centre (51 Marsden Road\, Kallangur)\nWhen: Tuesday 27 June or Tuesday 4 July at 10am to 11:30am\nCost: FREE \n Book your free ticket – Click here \n For information or Queries call 07 3465 3200 or email kallangur@encircle.org.au 
URL:https://encircle.org.au/events/konnecting-kids-to-kulture-kallangur/2023-06-27/
LOCATION:Encircle Kallangur\, 51 Marsden Road\, Kallangur\, Queensland\, 4503\, Australia
CATEGORIES:Creative,Kids
ATTACH;FMTTYPE=image/jpeg:https://encircle.org.au/wp-content/uploads/2023/06/Web-Tile_KKTK_2023-5.jpg
END:VEVENT
BEGIN:VEVENT
DTSTART;TZID=Australia/Brisbane:20230628T100000
DTEND;TZID=Australia/Brisbane:20230628T113000
DTSTAMP:20260426T021924
CREATED:20230602T072633Z
LAST-MODIFIED:20230703T115425Z
UID:10547-1687946400-1687951800@encircle.org.au
SUMMARY:Konnecting Kids to Kulture (Redcliffe)
DESCRIPTION:Celebrate NAIDOC week and join First nation elders for fun activities like storytelling\, painting\, art and more. Connect with First Nations history and culture these school holidays. \nFree event. Bookings essential – Limited spaces. \nWhere: Encircle Redcliffe Neighbourhood centre (1 Lamington Drive\, Redcliffe)\nWhen:  Wednesday 5 July at 10am to 11:30am\nCost: FREE \n Book your free tickets – Click here \n For information or queries call 07 3284 3081 or email redcliffe@encircle.org.au  \n 
URL:https://encircle.org.au/events/konnecting-kids-to-kulture-redcliffe/2023-06-28/
LOCATION:Encircle Redcliffe\, 1 Lamington Drive\, Redcliffe\, Queensland\, 4020\, Australia
CATEGORIES:Creative,Kids
ATTACH;FMTTYPE=image/jpeg:https://encircle.org.au/wp-content/uploads/2023/06/Web-Tile_KKTK_2023-6.jpg
GEO:27°13'35.1"S; 153°06'31.3"E
X-APPLE-STRUCTURED-LOCATION;VALUE=URI;X-ADDRESS=Encircle Redcliffe 1 Lamington Drive Redcliffe Queensland 4020 Australia;X-APPLE-RADIUS=500;X-TITLE=1 Lamington Drive:geo: 153°06'31.3"E,27°13'35.1"S
END:VEVENT
END:VCALENDAR