BEGIN:VCALENDAR
VERSION:2.0
PRODID:-//Encircle - ECPv6.15.20//NONSGML v1.0//EN
CALSCALE:GREGORIAN
METHOD:PUBLISH
X-ORIGINAL-URL:https://encircle.org.au
X-WR-CALDESC:Events for Encircle
REFRESH-INTERVAL;VALUE=DURATION:PT1H
X-Robots-Tag:noindex
X-PUBLISHED-TTL:PT1H
BEGIN:VTIMEZONE
TZID:Australia/Brisbane
BEGIN:STANDARD
TZOFFSETFROM:+1000
TZOFFSETTO:+1000
TZNAME:AEST
DTSTART:20250101T000000
END:STANDARD
END:VTIMEZONE
BEGIN:VEVENT
DTSTART;TZID=Australia/Brisbane:20260423T090000
DTEND;TZID=Australia/Brisbane:20260423T140000
DTSTAMP:20260423T040522
CREATED:20240717T001531Z
LAST-MODIFIED:20240717T001531Z
UID:23777-1776934800-1776952800@encircle.org.au
SUMMARY:Computer Self Service Kiosk (Kallangur)
DESCRIPTION:Do you need to access something on a computer? \nGet 1 hour on a self-service computer kiosk. Printing available. \nBookings essential. Walk-ins based on availability. \nWhen: Available Monday to Friday from 9:00am – 2:00pm\nWhere: Encircle Kallangur Neighbourhood Centre\, 51 Marsden Road\, Kallangur \nTo book\, please call our friendly reception on 07 3465 3200.
URL:https://encircle.org.au/events/computer-self-service-kiosk-kallangur/2026-04-23/
LOCATION:Encircle Kallangur\, 51 Marsden Road\, Kallangur\, Queensland\, 4503\, Australia
CATEGORIES:Resources and Garden
ATTACH;FMTTYPE=image/jpeg:https://encircle.org.au/wp-content/uploads/2024/07/Computer-Kiosk.jpg
END:VEVENT
BEGIN:VEVENT
DTSTART;TZID=Australia/Brisbane:20260423T093000
DTEND;TZID=Australia/Brisbane:20260423T140000
DTSTAMP:20260423T040522
CREATED:20230426T090702Z
LAST-MODIFIED:20230426T090702Z
UID:24381-1776936600-1776952800@encircle.org.au
SUMMARY:Free Laundry Facilities (Lawnton)
DESCRIPTION:FREE facilities for laundry needs. \nWhen: Available Monday to Friday (excluding public holidays) – 9:30 am – 2:00pm\nWhere: Encircle Pine Rivers (Lawnton) 865 Gympie Road\, Lawnton \nBookings essential. Please call our friendly reception on 07 3889 0063. \n 
URL:https://encircle.org.au/events/free-laundry-facilities-lawnton/2026-04-23/
LOCATION:Encircle Pine Rivers (Lawnton)\, 865 Gympie Road\, Lawnton\, Queensland\, 4501\, Australia
CATEGORIES:Resources and Garden
ATTACH;FMTTYPE=image/png:https://encircle.org.au/wp-content/uploads/2023/04/LAUNDRY-file-750-x-450-px-3.png
GEO:27°16'40.7"S; 152°58'56.7"E
X-APPLE-STRUCTURED-LOCATION;VALUE=URI;X-ADDRESS=Encircle Pine Rivers (Lawnton) 865 Gympie Road Lawnton Queensland 4501 Australia;X-APPLE-RADIUS=500;X-TITLE=865 Gympie Road:geo: 152°58'56.7"E,27°16'40.7"S
END:VEVENT
BEGIN:VEVENT
DTSTART;TZID=Australia/Brisbane:20260424T100000
DTEND;TZID=Australia/Brisbane:20260424T120000
DTSTAMP:20260423T040522
CREATED:20240130T014643Z
LAST-MODIFIED:20260415T022357Z
UID:22571-1777024800-1777032000@encircle.org.au
SUMMARY:Community Garden Group (Redcliffe)
DESCRIPTION:If you have a green thumb\, why not help out as a volunteer gardener. \nJoin our volunteer community gardening group who meets every Friday from 10:00am – 12:00pm at the Encircle Redcliffe Neighbourhood Centre (1 Lamington Drive\, Redcliffe). \nBring a plate to share. Tea/coffee facilities provided. New volunteers welcome. \nContact reception on 07 3284 3081 or email redcliffe@encircle.org.au for any enquires. 
URL:https://encircle.org.au/events/community-garden-group-redcliffe/2026-04-24/
LOCATION:Encircle Redcliffe\, 1 Lamington Drive\, Redcliffe\, Queensland\, 4020\, Australia
CATEGORIES:Resources and Garden
ATTACH;FMTTYPE=image/jpeg:https://encircle.org.au/wp-content/uploads/2024/01/RNC-Community-Garden-Group-.jpg
GEO:27°13'35.1"S; 153°06'31.3"E
X-APPLE-STRUCTURED-LOCATION;VALUE=URI;X-ADDRESS=Encircle Redcliffe 1 Lamington Drive Redcliffe Queensland 4020 Australia;X-APPLE-RADIUS=500;X-TITLE=1 Lamington Drive:geo: 153°06'31.3"E,27°13'35.1"S
END:VEVENT
BEGIN:VEVENT
DTSTART;TZID=Australia/Brisbane:20260508T120000
DTEND;TZID=Australia/Brisbane:20260508T140000
DTSTAMP:20260423T040522
CREATED:20260415T021709Z
LAST-MODIFIED:20260415T021843Z
UID:26052-1778241600-1778248800@encircle.org.au
SUMMARY:Community Garden Group - Kallangur
DESCRIPTION:Have you got a green thumb? Maybe you just like spending time in the garden? \nJoin us in helping maintain the outdoor garden at Kallangur Neighbourhood Centre.   \nRunning on the second and fourth Friday of each month\, this group offers active relaxation and the opportunity to learn a few new skills in the garden.  \nAll are welcome and no experience is needed. \nWhen: Fortnightly (2nd and 4th Friday of each month)\nTime: 12.00pm – 2.00pm\nWhere: Encircle Kallangur Neighbourhood Centre (51 Marsden Road\, Kallangur) \nNo RSVP is required. Simply turn up and join the fun.
URL:https://encircle.org.au/events/community-garden-group-kallangur/2026-05-08/
LOCATION:Encircle Kallangur\, 51 Marsden Road\, Kallangur\, Queensland\, 4503\, Australia
CATEGORIES:Groups,Men,Resources and Garden,Seniors,Women
ATTACH;FMTTYPE=image/jpeg:https://encircle.org.au/wp-content/uploads/2026/04/KNC-Community-Garden-Group-.jpg
END:VEVENT
BEGIN:VEVENT
DTSTART;TZID=Australia/Brisbane:20261218T100000
DTEND;TZID=Australia/Brisbane:20261218T120000
DTSTAMP:20260423T040522
CREATED:20240130T014643Z
LAST-MODIFIED:20260415T012613Z
UID:23307-1797588000-1797595200@encircle.org.au
SUMMARY:Community Garden Group (Redcliffe)
DESCRIPTION:If you have a green thumb\, why not help out as a volunteer gardener. \nJoin our volunteer community gardening group who meets every Friday from 10:00am – 12:00pm at the Encircle Redcliffe Neighbourhood Centre (1 Lamington Drive\, Redcliffe). \nBring a plate to share. Tea/coffee facilities provided. New volunteers welcome. \nContact reception on 07 3284 3081 or email redcliffe@encircle.org.au for any enquires. 
URL:https://encircle.org.au/events/community-garden-group-redcliffe-2026-12-18/
LOCATION:Encircle Redcliffe\, 1 Lamington Drive\, Redcliffe\, Queensland\, 4020\, Australia
CATEGORIES:Resources and Garden
ATTACH;FMTTYPE=image/png:https://encircle.org.au/wp-content/uploads/2023/04/Community-Gardens-Web-Tile-750-x-450-px.png
GEO:27°13'35.1"S; 153°06'31.3"E
X-APPLE-STRUCTURED-LOCATION;VALUE=URI;X-ADDRESS=Encircle Redcliffe 1 Lamington Drive Redcliffe Queensland 4020 Australia;X-APPLE-RADIUS=500;X-TITLE=1 Lamington Drive:geo: 153°06'31.3"E,27°13'35.1"S
END:VEVENT
END:VCALENDAR