BEGIN:VCALENDAR
VERSION:2.0
PRODID:-//Encircle - ECPv6.15.20//NONSGML v1.0//EN
CALSCALE:GREGORIAN
METHOD:PUBLISH
X-ORIGINAL-URL:https://encircle.org.au
X-WR-CALDESC:Events for Encircle
REFRESH-INTERVAL;VALUE=DURATION:PT1H
X-Robots-Tag:noindex
X-PUBLISHED-TTL:PT1H
BEGIN:VTIMEZONE
TZID:Australia/Brisbane
BEGIN:STANDARD
TZOFFSETFROM:+1000
TZOFFSETTO:+1000
TZNAME:AEST
DTSTART:20220101T000000
END:STANDARD
END:VTIMEZONE
BEGIN:VEVENT
DTSTART;TZID=Australia/Brisbane:20240221T093000
DTEND;TZID=Australia/Brisbane:20240221T110000
DTSTAMP:20260422T095226
CREATED:20240131T004820Z
LAST-MODIFIED:20251215T043537Z
UID:14021-1708507800-1708513200@encircle.org.au
SUMMARY:Seniors Morning Tea (Kallangur)
DESCRIPTION:Join us on the third Wednesday of every month as we pull up a chair and grab a cuppa. \nWhen: Third Wednesday of every month (except public holidays) from 9:30am – 11:00am\nWhere: Encircle Kallangur Neighbourhood Centre (51 Marsden Road\, Kallangur)\nCost: FREE \nBookings are essential. Call the Centre on 07 3465 3200 to book. \n Free Parking and disabled access
URL:https://encircle.org.au/events/seniors-morning-tea-kallangur-2024-02-21/
LOCATION:Encircle Kallangur\, 51 Marsden Road\, Kallangur\, Queensland\, 4503\, Australia
CATEGORIES:Seniors,Social Events
ATTACH;FMTTYPE=image/jpeg:https://encircle.org.au/wp-content/uploads/2024/01/Seniors-Morning-Tea.jpeg
END:VEVENT
BEGIN:VEVENT
DTSTART;TZID=Australia/Brisbane:20240129T090000
DTEND;TZID=Australia/Brisbane:20240129T150000
DTSTAMP:20260422T095226
CREATED:20230425T124352Z
LAST-MODIFIED:20251215T045114Z
UID:9027-1706518800-1706540400@encircle.org.au
SUMMARY:Seniors Tarago Tours
DESCRIPTION:Come for a social outing and mini-bus tour. The outings are coordinated by volunteer bus driver\, Bob. \nIt is a door to door pick up and drop off service. \nWhen: Mondays (fortnightly) between 9am and 3pm.\nWhere: Bus trip outings from your location (destination calendar will be available soon)\nCost: $5 \nPlease call the Encircle Redcliffe Neighbourhood Centre on 07 3284 3081 for more information\, and to book.
URL:https://encircle.org.au/events/seniors-tarago-tours-2024-01-29/
LOCATION:Encircle Redcliffe\, 1 Lamington Drive\, Redcliffe\, Queensland\, 4020\, Australia
CATEGORIES:Seniors,Social Events
ATTACH;FMTTYPE=image/png:https://encircle.org.au/wp-content/uploads/2023/04/SENIORS-Tarago-Tours-Web-Tile-750-x-450-px-1.png
GEO:27°13'35.1"S; 153°06'31.3"E
X-APPLE-STRUCTURED-LOCATION;VALUE=URI;X-ADDRESS=Encircle Redcliffe 1 Lamington Drive Redcliffe Queensland 4020 Australia;X-APPLE-RADIUS=500;X-TITLE=1 Lamington Drive:geo: 153°06'31.3"E,27°13'35.1"S
END:VEVENT
BEGIN:VEVENT
DTSTART;TZID=Australia/Brisbane:20231212T113000
DTEND;TZID=Australia/Brisbane:20231212T140000
DTSTAMP:20260422T095226
CREATED:20231129T133359Z
LAST-MODIFIED:20231129T133539Z
UID:12750-1702380600-1702389600@encircle.org.au
SUMMARY:Seniors Christmas Funch (Redcliffe)
DESCRIPTION:What do you get when you mix fun and lunch? Funch! \nThis festive event rounds out the Older Person’s Action Program for 2023. Come along and celebrate the Christmas season\, and end the year with your friends. \nWhen: Tuesday 12 December 2023\nWhere: Encircle Redcliffe\, 1 Lamington Drive Redcliffe\nTime: 11:30am – 2pm\nCost: $5 \nRSVP: Bookings are essential. Please email redcliffe@encircle.org.au or call 3284 3081 \n Free parking and disabled access. \n 
URL:https://encircle.org.au/events/seniors-christmas-funch-redcliffe/
LOCATION:Encircle Redcliffe\, 1 Lamington Drive\, Redcliffe\, Queensland\, 4020\, Australia
CATEGORIES:Seniors,Social Events
ATTACH;FMTTYPE=image/jpeg:https://encircle.org.au/wp-content/uploads/2023/11/Funch-Web-Tile-750-x-450-px.jpg
GEO:27°13'35.1"S; 153°06'31.3"E
X-APPLE-STRUCTURED-LOCATION;VALUE=URI;X-ADDRESS=Encircle Redcliffe 1 Lamington Drive Redcliffe Queensland 4020 Australia;X-APPLE-RADIUS=500;X-TITLE=1 Lamington Drive:geo: 153°06'31.3"E,27°13'35.1"S
END:VEVENT
BEGIN:VEVENT
DTSTART;TZID=Australia/Brisbane:20231211T090000
DTEND;TZID=Australia/Brisbane:20231211T150000
DTSTAMP:20260422T095226
CREATED:20230425T124352Z
LAST-MODIFIED:20240125T041106Z
UID:12028-1702285200-1702306800@encircle.org.au
SUMMARY:Seniors Tarago Tours
DESCRIPTION:Come for a social outing and mini-bus tour. The outings are coordinated by volunteer bus driver\, Bob. \nIt is a door to door pick up and drop off service. \nWhen: Mondays between 9am and 3pm.\nWhere: Bus trip outings from your location (destination calendar will be available soon)\nCost: $5 \nPlease call the Encircle Redcliffe Neighbourhood Centre for more information\, and to join. Call 07 3284 3081 or email: redcliffe@encircle.org.au
URL:https://encircle.org.au/events/seniors-tarago-tours-2023-12-11/2023-12-11/
LOCATION:Encircle Redcliffe\, 1 Lamington Drive\, Redcliffe\, Queensland\, 4020\, Australia
CATEGORIES:Seniors,Social Events
ATTACH;FMTTYPE=image/png:https://encircle.org.au/wp-content/uploads/2023/04/SENIORS-Tarago-Tours-Web-Tile-750-x-450-px-1.png
GEO:27°13'35.1"S; 153°06'31.3"E
X-APPLE-STRUCTURED-LOCATION;VALUE=URI;X-ADDRESS=Encircle Redcliffe 1 Lamington Drive Redcliffe Queensland 4020 Australia;X-APPLE-RADIUS=500;X-TITLE=1 Lamington Drive:geo: 153°06'31.3"E,27°13'35.1"S
END:VEVENT
BEGIN:VEVENT
DTSTART;TZID=Australia/Brisbane:20231121T110000
DTEND;TZID=Australia/Brisbane:20231121T130000
DTSTAMP:20260422T095226
CREATED:20230502T102745Z
LAST-MODIFIED:20231101T070712Z
UID:9677-1700564400-1700571600@encircle.org.au
SUMMARY:Seniors Social BBQ (Redcliffe)
DESCRIPTION:Come along and enjoy a chat and BBQ in the Redcliffe Neighbourhood centre’s relaxing garden space. Gold coin donation. \nWhere: Redcliffe Neighbourhood Centre (1 Lamington Drive\, Redcliffe)\nWhen: Weekly – Tuesdays at 11:00am – 1:00pm. Please note: The BBQ on 21 November 2023 will the final BBQ of the year.\nContact: Ph: 07 3284 3081 Email: redcliffe@encircle.org.au \n Free parking and disabled access
URL:https://encircle.org.au/events/seniors-social-bbq-redcliffe/2023-11-21/
LOCATION:Encircle Redcliffe\, 1 Lamington Drive\, Redcliffe\, Queensland\, 4020\, Australia
CATEGORIES:Seniors,Social Events
ATTACH;FMTTYPE=image/png:https://encircle.org.au/wp-content/uploads/2023/05/SENIORS-BBQ-Web-Tile-750-x-450-px-2.png
GEO:27°13'35.1"S; 153°06'31.3"E
X-APPLE-STRUCTURED-LOCATION;VALUE=URI;X-ADDRESS=Encircle Redcliffe 1 Lamington Drive Redcliffe Queensland 4020 Australia;X-APPLE-RADIUS=500;X-TITLE=1 Lamington Drive:geo: 153°06'31.3"E,27°13'35.1"S
END:VEVENT
BEGIN:VEVENT
DTSTART;TZID=Australia/Brisbane:20231121T100000
DTEND;TZID=Australia/Brisbane:20231121T123000
DTSTAMP:20260422T095226
CREATED:20231101T065242Z
LAST-MODIFIED:20231101T065242Z
UID:12486-1700560800-1700569800@encircle.org.au
SUMMARY:Tech Savvy Seniors (Kallangur)
DESCRIPTION:Discover the digital world with Tech Savvy Seniors. Join our vibrant\, inclusive community of older adults passionate about technology. We offer engaging workshops\, expert guidance and a friendly atmosphere to help you navigate the digital world with confidence. \nWhere: Encircle Kallangur Neighbourhood Centre\, 51 Marsden Road\, Kallangur\nWhen: Tuesday 21 November – 10am to 12:30am \nFREE EVENT – bookings essential! Please contact 07 3465 3200 or email kallangur@encircle.org.au \n Free parking and disabled access\n Close to public transport
URL:https://encircle.org.au/events/tech-savvy-seniors-kallangur/
LOCATION:Encircle Kallangur\, 51 Marsden Road\, Kallangur\, Queensland\, 4503\, Australia
CATEGORIES:Classes,Seniors
ATTACH;FMTTYPE=image/jpeg:https://encircle.org.au/wp-content/uploads/2023/11/tech-savvy-seniors-Web-Tile-750-x-450-px.jpg
END:VEVENT
BEGIN:VEVENT
DTSTART;TZID=Australia/Brisbane:20231107T110000
DTEND;TZID=Australia/Brisbane:20231107T150000
DTSTAMP:20260422T095226
CREATED:20231101T073126Z
LAST-MODIFIED:20231101T075702Z
UID:12515-1699354800-1699369200@encircle.org.au
SUMMARY:Seniors Melbourne Cup Luncheon (Dolphins Leagues Club Redcliffe)
DESCRIPTION:Calling all seniors! \nGet ready to enjoy the race that stops the nation in style! \nJoin us for an unforgettable Melbourne Cup luncheon at Dolphins Leagues Club. It’s the perfect opportunity to soak in the excitement and elegance of this iconic event while surrounded by friends. \nWhere:  Dolphins Leagues Club (Cnr. Klinger and Ashmole Rds\, Redcliffe)\nWhen: Tuesday 7 November 2023\, Starts at 11:00am\nCost: Lunch menu prices from $12.95 \nBookings are essential – Please call 3284 3081 or email redcliffe@encircle.org.au to book \nDon’t miss out on this fabulous event! \nLet’s make this Melbourne Cup luncheon a day to remember\, filled with laughter and good company.
URL:https://encircle.org.au/events/seniors-melbourne-cup-luncheon-dolphins-leagues-club-redcliffe/
LOCATION:Encircle Redcliffe\, 1 Lamington Drive\, Redcliffe\, Queensland\, 4020\, Australia
CATEGORIES:Seniors,Social Events
ATTACH;FMTTYPE=image/jpeg:https://encircle.org.au/wp-content/uploads/2023/11/melbourne-cup-web-tile-1.jpg
GEO:27°13'35.1"S; 153°06'31.3"E
X-APPLE-STRUCTURED-LOCATION;VALUE=URI;X-ADDRESS=Encircle Redcliffe 1 Lamington Drive Redcliffe Queensland 4020 Australia;X-APPLE-RADIUS=500;X-TITLE=1 Lamington Drive:geo: 153°06'31.3"E,27°13'35.1"S
END:VEVENT
BEGIN:VEVENT
DTSTART;TZID=Australia/Brisbane:20231014T140000
DTEND;TZID=Australia/Brisbane:20231014T170000
DTSTAMP:20260422T095226
CREATED:20231005T020212Z
LAST-MODIFIED:20231008T100734Z
UID:12331-1697292000-1697302800@encircle.org.au
SUMMARY:Golden Minds Trivia (Redcliffe)
DESCRIPTION:Join us for a truly unforgettable celebration of Seniors Month! Test your knowledge and enjoy a fun social event. \nThere will be a lucky door prize\, great prizes and free food and drink. \nFormer Olympic gold medal swimmer Brooke Hanson will emcee this exciting trivia extravaganza.   \nAll proceeds will be used to support future community events\nWhere: Encircle Redcliffe Neighbourhood Centre\, 1 Lamington Drive\, Redcliffe\nWhen: Saturday 14 October 2023. Doors open at 1pm for a 2pm start \nSpaces are limited\, book your ticket now \nCLICK HERE TO REGISTER \n\n$10.00* for seniors\n$20.00* for community members\n\n* Plus booking fee \nFor more information please email:  0PAP@encircle.org.au or call: 07 3284 3081 \n Free Parking and Disabled access
URL:https://encircle.org.au/events/golden-minds-trivia-redcliffe/
LOCATION:Encircle Redcliffe\, 1 Lamington Drive\, Redcliffe\, Queensland\, 4020\, Australia
CATEGORIES:Seniors,Social Events
ATTACH;FMTTYPE=image/jpeg:https://encircle.org.au/wp-content/uploads/2023/10/webtile-Trivia_OPAP-Oct-2023_A4-750-x-450-px.jpg
GEO:27°13'35.1"S; 153°06'31.3"E
X-APPLE-STRUCTURED-LOCATION;VALUE=URI;X-ADDRESS=Encircle Redcliffe 1 Lamington Drive Redcliffe Queensland 4020 Australia;X-APPLE-RADIUS=500;X-TITLE=1 Lamington Drive:geo: 153°06'31.3"E,27°13'35.1"S
END:VEVENT
BEGIN:VEVENT
DTSTART;TZID=Australia/Brisbane:20231004T090000
DTEND;TZID=Australia/Brisbane:20231004T110000
DTSTAMP:20260422T095226
CREATED:20231001T033858Z
LAST-MODIFIED:20231001T043241Z
UID:12289-1696410000-1696417200@encircle.org.au
SUMMARY:Connection Club - Sesame Lane (Redcliffe)
DESCRIPTION:Sesame Lane Care & Kindergarten and Encircle Limited have formed a community partnership to reduce social isolation in our Senior community members and support young Kindergarten children in relating to others\, and to reconnect our generations. \nOnce a week\, a group of Seniors (the Connection Club) are welcomed into Sesame Lane (Kippa-Ring). A Kindergarten class of around 15-20 children meet with the seniors for social fun and activities. Activities include things like art\, craft\, ball games\, story reading\, cooking experiences\, sharing morning tea and any activities that the club members may find enjoyable. The children often prepare morning tea\, bringing along biscuits and slices they have baked in the childcare centre the day before. \nWhere: Redcliffe Neighbourhood Centre\, 1 Lamington Drive\, Redcliffe and Sesame Lane Care & Kindergarten Kippa-Ring – Anzac Avenue\nRSVP: You can join apply via Encircle to join the fun at Sesame Lane Connection Club: Call 07 3284 3081 or email: OPAP@encircle.org.au \nClick Here to read the news story and watch Roz’s video about her experience at Connection Club
URL:https://encircle.org.au/events/connection-club-sesame-lane-redcliffe/2023-10-04/
LOCATION:Encircle Redcliffe\, 1 Lamington Drive\, Redcliffe\, Queensland\, 4020\, Australia
CATEGORIES:Seniors
ATTACH;FMTTYPE=image/jpeg:https://encircle.org.au/wp-content/uploads/2023/10/Connection-Club-Tile-750-x-450-px.jpg
GEO:27°13'35.1"S; 153°06'31.3"E
X-APPLE-STRUCTURED-LOCATION;VALUE=URI;X-ADDRESS=Encircle Redcliffe 1 Lamington Drive Redcliffe Queensland 4020 Australia;X-APPLE-RADIUS=500;X-TITLE=1 Lamington Drive:geo: 153°06'31.3"E,27°13'35.1"S
END:VEVENT
BEGIN:VEVENT
DTSTART;TZID=Australia/Brisbane:20230816T093000
DTEND;TZID=Australia/Brisbane:20230816T110000
DTSTAMP:20260422T095226
CREATED:20230627T093518Z
LAST-MODIFIED:20230627T094412Z
UID:10766-1692178200-1692183600@encircle.org.au
SUMMARY:Seniors' High Tea (Kallangur)
DESCRIPTION:Pull up a chair and grab a cuppa! Join us for a FREE high tea the third Wednesday of each month – we will supply the refreshments! \nEach month will feature a different theme / activity. Join our friendly social group and connect with others in the community. \nWhere: Encircle Kallangur Neighbourhood Centre (51 Marsden Road\, Kallangur)\nWhen: Third Wednesday of each month\nTime: 9:30 – 11:00am \nRSVP:  Ph: 3465 3200 Email: alexs@encircle.org.au \nSee you there! \n Free parking and disabled access\n Close to public transport
URL:https://encircle.org.au/events/seniors-high-tea-kallangur/2023-08-16/
LOCATION:Encircle Kallangur\, 51 Marsden Road\, Kallangur\, Queensland\, 4503\, Australia
CATEGORIES:Seniors,Social Events
ATTACH;FMTTYPE=image/jpeg:https://encircle.org.au/wp-content/uploads/2023/06/Seniors-High-Tea-Web-Tile-750-x-450-px-1.jpg
END:VEVENT
END:VCALENDAR