BEGIN:VCALENDAR
VERSION:2.0
PRODID:-//Encircle - ECPv6.15.20//NONSGML v1.0//EN
CALSCALE:GREGORIAN
METHOD:PUBLISH
X-WR-CALNAME:Encircle
X-ORIGINAL-URL:https://encircle.org.au
X-WR-CALDESC:Events for Encircle
REFRESH-INTERVAL;VALUE=DURATION:PT1H
X-Robots-Tag:noindex
X-PUBLISHED-TTL:PT1H
BEGIN:VTIMEZONE
TZID:Australia/Brisbane
BEGIN:STANDARD
TZOFFSETFROM:+1000
TZOFFSETTO:+1000
TZNAME:AEST
DTSTART:20220101T000000
END:STANDARD
END:VTIMEZONE
BEGIN:VEVENT
DTSTART;TZID=Australia/Brisbane:20230607T093000
DTEND;TZID=Australia/Brisbane:20230607T110000
DTSTAMP:20260421T231524
CREATED:20230524T121344Z
LAST-MODIFIED:20230524T122007Z
UID:10307-1686130200-1686135600@encircle.org.au
SUMMARY:You Me She - Trivia Fun (Kallangur)
DESCRIPTION:You Me She is an inclusive women’s social group. We actively connect\, empower and celebrate all women in our community. \nGrab a friend\, test your knowledge and join us for a fun morning of Trivia\, connection and morning tea. It’s FREE! \nWhen: Wednesday 7 June from 9:30am – 11:00am\nWhere: Encircle Kallangur Neighbourhood Centre (51 Marsden Road\, Kallangur).\nCost: FREE\nMorning tea included. \nPlease book\, as spaces are limited:\nemail: cd@encircle.org.au or call: 07 3465 3200 \n Free Parking and disabled access\n Close to public transport
URL:https://encircle.org.au/events/you-me-she-trivia-fun-kallangur/
LOCATION:Encircle Kallangur\, 51 Marsden Road\, Kallangur\, Queensland\, 4503\, Australia
CATEGORIES:Women,You Me She
ATTACH;FMTTYPE=image/jpeg:https://encircle.org.au/wp-content/uploads/2023/05/Trivia-Web-Tile-750-x-450-px.jpg
END:VEVENT
END:VCALENDAR