BEGIN:VCALENDAR
VERSION:2.0
PRODID:-//Encircle - ECPv6.15.20//NONSGML v1.0//EN
CALSCALE:GREGORIAN
METHOD:PUBLISH
X-WR-CALNAME:Encircle
X-ORIGINAL-URL:https://encircle.org.au
X-WR-CALDESC:Events for Encircle
REFRESH-INTERVAL;VALUE=DURATION:PT1H
X-Robots-Tag:noindex
X-PUBLISHED-TTL:PT1H
BEGIN:VTIMEZONE
TZID:Australia/Brisbane
BEGIN:STANDARD
TZOFFSETFROM:+1000
TZOFFSETTO:+1000
TZNAME:AEST
DTSTART:20220101T000000
END:STANDARD
END:VTIMEZONE
BEGIN:VEVENT
DTSTART;TZID=Australia/Brisbane:20231208T100000
DTEND;TZID=Australia/Brisbane:20231208T113000
DTSTAMP:20260421T213852
CREATED:20231129T080338Z
LAST-MODIFIED:20231130T014909Z
UID:11155-1702029600-1702035000@encircle.org.au
SUMMARY:You Me She - Pressed Flower Lanterns (Redcliffe)
DESCRIPTION:Are you into arts and crafts? This is a fun workshop to create colourful and personalised gifts\, and transform simple jars into beautiful lanterns! \nNot only will you get to unleash your creativity\, but this event is all about connecting\, empowering\, and celebrating each other. \nYou Me She is an inclusive women’s group\, and it’s the perfect opportunity to meet new friends and strengthen bonds with your fellow crafty ladies. \nThe best part is this event is completely FREE! And to make it even better\, we’ll provide morning tea. \nWhere: Redcliffe Neighbourhood Centre\, 1 Lamington Drive\, Redcliffe\nWhen: Friday 8 December 2023\, 10am – 11:30am\nCost: FREE! \nSpaces are limited\, so booking is essential!\nTo book: email: cd@encircle.org.au or call 07 3284 3081 \n Free Parking and disabled access
URL:https://encircle.org.au/events/pressed-flower-lanterns-redcliffe/
LOCATION:Encircle Redcliffe\, 1 Lamington Drive\, Redcliffe\, Queensland\, 4020\, Australia
CATEGORIES:Classes,Groups,Women,You Me She
ATTACH;FMTTYPE=image/jpeg:https://encircle.org.au/wp-content/uploads/2023/11/Pressed-flower-jars-Redcliffe-Web-Tile-750-x-450-px-1.jpg
GEO:27°13'35.1"S; 153°06'31.3"E
X-APPLE-STRUCTURED-LOCATION;VALUE=URI;X-ADDRESS=Encircle Redcliffe 1 Lamington Drive Redcliffe Queensland 4020 Australia;X-APPLE-RADIUS=500;X-TITLE=1 Lamington Drive:geo: 153°06'31.3"E,27°13'35.1"S
END:VEVENT
BEGIN:VEVENT
DTSTART;TZID=Australia/Brisbane:20231110T100000
DTEND;TZID=Australia/Brisbane:20231110T113000
DTSTAMP:20260421T213852
CREATED:20231023T111009Z
LAST-MODIFIED:20231024T021027Z
UID:12393-1699610400-1699615800@encircle.org.au
SUMMARY:You Me She - Vision Boards (Redcliffe)
DESCRIPTION:Our final “You Me She” meeting for the year will help you determine what you want in 2024.\n\n\n\nWe welcome our local women to join us in creating your own Vision Board – A piece of art highlighting what you want to bring into your life. We’ve got all the resources… All you have to do is join us for the relaxation\, morning tea and conversation.\n\n\n\n“Where Attention goes Energy flows; Where Intention goes Energy flows!” (James Redfield)\n\n\nYou Me She is an inclusive women’s group\, and it’s the perfect opportunity to meet new friends and strengthen bonds with your fellow crafty ladies. \nThe best part is this event is completely FREE! And to make it even better\, we’ll provide morning tea.\nWhere: Redcliffe Neighbourhood Centre\, 1 Lamington Drive\, Redcliffe\nWhen: Friday 10 November 2023\, 10am – 11:30am \nSpaces are limited\, so booking is essential!\nTo book: email: cd@encircle.org.au or call 07 3284 3081 \n Free Parking and disabled access
URL:https://encircle.org.au/events/you-me-she-vision-boards-redcliffe/
LOCATION:Encircle Redcliffe\, 1 Lamington Drive\, Redcliffe\, Queensland\, 4020\, Australia
CATEGORIES:Social Events,Women
ATTACH;FMTTYPE=image/jpeg:https://encircle.org.au/wp-content/uploads/2023/10/Vision-Boards-Redcliffe-Web-Tile-750-x-450-px.jpg
GEO:27°13'35.1"S; 153°06'31.3"E
X-APPLE-STRUCTURED-LOCATION;VALUE=URI;X-ADDRESS=Encircle Redcliffe 1 Lamington Drive Redcliffe Queensland 4020 Australia;X-APPLE-RADIUS=500;X-TITLE=1 Lamington Drive:geo: 153°06'31.3"E,27°13'35.1"S
END:VEVENT
BEGIN:VEVENT
DTSTART;TZID=Australia/Brisbane:20231109T100000
DTEND;TZID=Australia/Brisbane:20231109T113000
DTSTAMP:20260421T213852
CREATED:20231023T113649Z
LAST-MODIFIED:20231023T122332Z
UID:12400-1699524000-1699529400@encircle.org.au
SUMMARY:You Me She - Gratitude Jars (Lawnton)
DESCRIPTION:Calling all wonderful women! Join us for a morning of connection\, and gratitude at You Me She\, our FREE inclusive Women’s Social Group. \nWhen:  Thursday\, 9 November 2023 – 10:00 AM – 11:30 AM\nWhere: Encircle Pine Rivers Neighbourhood Centre\, 865 Gympie Road\, Lawnton \nWe are using the USA thanksgiving holiday as inspiration for our own thanksgiving by creating gratitude jars. \nTo secure your spot\, please RSVP by emailing cd@encircle.org.au or call o7 3889 0063 to book \nFeel free to invite your friends to share in this special experience with you. \n Free parking and disabled access
URL:https://encircle.org.au/events/you-me-she-gratitude-jars-lawnton/
LOCATION:Encircle Pine Rivers (Lawnton)\, 865 Gympie Road\, Lawnton\, Queensland\, 4501\, Australia
CATEGORIES:Social Events,Women
ATTACH;FMTTYPE=image/jpeg:https://encircle.org.au/wp-content/uploads/2023/10/gratitude-Web-Tile-750-x-450-px.jpg
GEO:27°16'40.7"S; 152°58'56.7"E
X-APPLE-STRUCTURED-LOCATION;VALUE=URI;X-ADDRESS=Encircle Pine Rivers (Lawnton) 865 Gympie Road Lawnton Queensland 4501 Australia;X-APPLE-RADIUS=500;X-TITLE=865 Gympie Road:geo: 152°58'56.7"E,27°16'40.7"S
END:VEVENT
BEGIN:VEVENT
DTSTART;TZID=Australia/Brisbane:20231013T100000
DTEND;TZID=Australia/Brisbane:20231013T233000
DTSTAMP:20260421T213852
CREATED:20231005T033749Z
LAST-MODIFIED:20231005T033749Z
UID:12347-1697191200-1697239800@encircle.org.au
SUMMARY:Social Bingo - You Me She (Redcliffe)
DESCRIPTION:Let’s get together and play a friendly game of bingo! Get ready to feel the excitement building up as the caller yells out those magical words – BINGO! There will be one lucky winner\, and who knows\, it could be you! Best of all\, there’s no cost to join in on the fun. And to make it even better\, we’ll have a delightful morning tea to enjoy along the way. \nYou Me She is a fun\, social\, inclusive women’s group.  \nSo come on\, let’s gather around and prepare for a thrilling game of bingo! \nWhere: Encircle Redcliffe Neighbourhood Centre\, 1 Lamington Drive Redcliffe\nWhen: Friday 13 October\, 10am – 11:30am\nFree – Morning tea provided. \nRSVP: email: cd@encircle.org.au or call 07 3284 3081 \n Free parking and disabled access
URL:https://encircle.org.au/events/social-bingo-you-me-she-redcliffe/
LOCATION:Encircle Redcliffe\, 1 Lamington Drive\, Redcliffe\, Queensland\, 4020\, Australia
CATEGORIES:Social Events,Women
ATTACH;FMTTYPE=image/jpeg:https://encircle.org.au/wp-content/uploads/2023/10/Bingo-Web-Tile-750-x-450-px-1.jpg
GEO:27°13'35.1"S; 153°06'31.3"E
X-APPLE-STRUCTURED-LOCATION;VALUE=URI;X-ADDRESS=Encircle Redcliffe 1 Lamington Drive Redcliffe Queensland 4020 Australia;X-APPLE-RADIUS=500;X-TITLE=1 Lamington Drive:geo: 153°06'31.3"E,27°13'35.1"S
END:VEVENT
BEGIN:VEVENT
DTSTART;TZID=Australia/Brisbane:20231012T100000
DTEND;TZID=Australia/Brisbane:20231012T113000
DTSTAMP:20260421T213852
CREATED:20231005T034535Z
LAST-MODIFIED:20231005T034535Z
UID:12352-1697104800-1697110200@encircle.org.au
SUMMARY:Do it Yourself Body Scrub (Lawnton)
DESCRIPTION:Calling all wonderful women! Join us for a morning of connection\, self-care\, and a delightful DIY body scrub session at You Me She\, our FREE inclusive Women’s Social Group now meeting the second Thursday of each month.\n\n\nWhen:  Thursday\, October 12 2023 – 10:00 AM – 11:30 AM\n\nWhere: Encircle Pine Rivers Neighbourhood Centre\, 865 Gympie Road\, Lawnton\n\n\n\n\n\nWhat to expect:\n DIY Body Scrub Workshop\n Meaningful Connections\n Morning Tea\n New Friendships\n Self-Care Tips\n\nWe’re excited to offer a fun DIY body scrub session where you’ll create your own luxurious scrub to take home and enjoy. Best of all\, it won’t cost you a thing!\n\n\nTo secure your spot\, please RSVP by emailing cd@encircle.org.au.\n\nFeel free to invite your friends to share in this special experience with you.\n\n Free parking and disabled access
URL:https://encircle.org.au/events/do-it-yourself-body-scrub-lawnton/
LOCATION:Encircle Pine Rivers (Lawnton)\, 865 Gympie Road\, Lawnton\, Queensland\, 4501\, Australia
CATEGORIES:Social Events,Women
ATTACH;FMTTYPE=image/jpeg:https://encircle.org.au/wp-content/uploads/2023/10/DIY-Body-scrub.jpg
GEO:27°16'40.7"S; 152°58'56.7"E
X-APPLE-STRUCTURED-LOCATION;VALUE=URI;X-ADDRESS=Encircle Pine Rivers (Lawnton) 865 Gympie Road Lawnton Queensland 4501 Australia;X-APPLE-RADIUS=500;X-TITLE=865 Gympie Road:geo: 152°58'56.7"E,27°16'40.7"S
END:VEVENT
BEGIN:VEVENT
DTSTART;TZID=Australia/Brisbane:20230908T100000
DTEND;TZID=Australia/Brisbane:20230908T113000
DTSTAMP:20260421T213852
CREATED:20230902T122813Z
LAST-MODIFIED:20230902T125236Z
UID:11558-1694167200-1694172600@encircle.org.au
SUMMARY:You Me She - Make your own Sun Catcher (Redcliffe)
DESCRIPTION:Create dazzling sun catchers! You’ll learn different techniques\, experiment with colors and patterns\, and let your imagination run wild.\n\nWe are a friendly inclusive group! You can make new connections\, and have a cozy morning tea together.\n\nThe best part is this event is completely FREE! \nWhere: Redcliffe Neighbourhood Centre\, 1 Lamington Drive\, Redcliffe\nWhen: Friday 8 September 2023\, 10am – 11:30am \nMorning tea included. Spaces are limited\, so booking is essential!\nTo book: email: cd@encircle.org.au or call 07 3284 3081 \n Free Parking and disabled access
URL:https://encircle.org.au/events/you-me-she-make-your-own-sun-catcher-redcliffe/
LOCATION:Encircle Redcliffe\, 1 Lamington Drive\, Redcliffe\, Queensland\, 4020\, Australia
CATEGORIES:Women,You Me She
ATTACH;FMTTYPE=image/jpeg:https://encircle.org.au/wp-content/uploads/2023/09/suncatcher-Redcliffe-Web-Tile-750-x-450-px-5.jpg
GEO:27°13'35.1"S; 153°06'31.3"E
X-APPLE-STRUCTURED-LOCATION;VALUE=URI;X-ADDRESS=Encircle Redcliffe 1 Lamington Drive Redcliffe Queensland 4020 Australia;X-APPLE-RADIUS=500;X-TITLE=1 Lamington Drive:geo: 153°06'31.3"E,27°13'35.1"S
END:VEVENT
BEGIN:VEVENT
DTSTART;TZID=Australia/Brisbane:20230707T100000
DTEND;TZID=Australia/Brisbane:20230707T113000
DTSTAMP:20260421T213852
CREATED:20230624T015837Z
LAST-MODIFIED:20230624T031518Z
UID:10747-1688724000-1688729400@encircle.org.au
SUMMARY:You Me She - DIY Bath Salts (Redcliffe)
DESCRIPTION:Our inclusive women’s social group You Me She activity connects\, empowers and celebrates all women in our community.\nIf you love to relax in the bath with some soothing bath salts\, this FREE workshop is for you!\n\nLearn to make your own bath salts and keep them on hand for your next relaxation session. Morning Tea included!\n\n\n\n\nWhen: Friday 7 July from 10:00am – 11:30am\nWhere: Encircle Redcliffe Neighbourhood Centre (1 Lamington Drive\, Redcliffe).\nCost: FREE\nMorning tea included. \nPlease book\, as spaces are limited:\nemail: cd@encircle.org.au or call: 07 3284 3081. \n Free Parking and disabled access
URL:https://encircle.org.au/events/you-me-she-diy-bath-salts-redcliffe/
LOCATION:Encircle Redcliffe\, 1 Lamington Drive\, Redcliffe\, Queensland\, 4020\, Australia
CATEGORIES:Groups,Women,You Me She
ATTACH;FMTTYPE=image/jpeg:https://encircle.org.au/wp-content/uploads/2023/06/Bath-Salts-Redcliffe-Web-Tile-750-x-450-px-2.jpg
GEO:27°13'35.1"S; 153°06'31.3"E
X-APPLE-STRUCTURED-LOCATION;VALUE=URI;X-ADDRESS=Encircle Redcliffe 1 Lamington Drive Redcliffe Queensland 4020 Australia;X-APPLE-RADIUS=500;X-TITLE=1 Lamington Drive:geo: 153°06'31.3"E,27°13'35.1"S
END:VEVENT
BEGIN:VEVENT
DTSTART;TZID=Australia/Brisbane:20230705T093000
DTEND;TZID=Australia/Brisbane:20230705T110000
DTSTAMP:20260421T213852
CREATED:20230624T030227Z
LAST-MODIFIED:20230624T030606Z
UID:10752-1688549400-1688554800@encircle.org.au
SUMMARY:You Me She - Wellness Workshop (Kallangur)
DESCRIPTION:You Me She is an inclusive women’s social group. We actively connect\, empower and celebrate all women in our community. \n\nIn July we will be focusing on the ‘body’\n\n\n\n Energising\, balancing and relaxing\n Tapping morning routine from Chinese Medicine\n Self massage\, pressure points for relaxation\n Our relationship to food\, how it represents enjoyment\, connection and simple diet tips for health\n Kitchen and beauty routines for hair\, teeth and skin\n 20 minutes a day in nature sitting on the earth\n\n\n\n\nWhen: Wednesday 5 July from 9:30am – 11:00am\nWhere: Encircle Kallangur Neighbourhood Centre (51 Marsden Road\, Kallangur).\nCost: FREE\nMorning tea included. \nPlease book\, as spaces are limited: BOOK VIA LINK https://shorturl.at/cdP58 \nor for more information email: cd@encircle.org.au or call: 07 3465 3200 \n Free Parking and disabled access\n Close to public transport
URL:https://encircle.org.au/events/you-me-she-wellness-workshop-kallangur/
LOCATION:Encircle Kallangur\, 51 Marsden Road\, Kallangur\, Queensland\, 4503\, Australia
CATEGORIES:Groups,Women,You Me She
ATTACH;FMTTYPE=image/jpeg:https://encircle.org.au/wp-content/uploads/2023/06/wellness-workshop-Web-Tile-750-x-450-px-1.jpg
END:VEVENT
BEGIN:VEVENT
DTSTART;TZID=Australia/Brisbane:20230609T100000
DTEND;TZID=Australia/Brisbane:20230609T113000
DTSTAMP:20260421T213852
CREATED:20230530T075909Z
LAST-MODIFIED:20230602T082414Z
UID:10455-1686304800-1686310200@encircle.org.au
SUMMARY:You Me She - Rag Weaving (Redcliffe)
DESCRIPTION:Our inclusive women’s social group You Me She activity connects\, empowers and celebrates all women in our community.\nJoin us for the ancient art of rag weaving! Bring your own old coloured sheets to weave (they will be cut in strips) or we will provide rags. If you have your own bodkin needle\, please bring it along\, if not\, we will provide one. Morning tea included.\n\n\n\nGrab a friend\, and join us for a fun morning of crafting\, connection and morning tea. It’s FREE!\n\nWhen: Friday 9 June from 10:00am – 11:30am\nWhere: Encircle Redcliffe Neighbourhood Centre (1 Lamington Drive\, Redcliffe).\nCost: FREE\nMorning tea included. \nPlease book\, as spaces are limited:\nemail: cd@encircle.org.au or call: 07 3284 3081. \n Free Parking and disabled access
URL:https://encircle.org.au/events/rag-weaving/
LOCATION:Encircle Redcliffe\, 1 Lamington Drive\, Redcliffe\, Queensland\, 4020\, Australia
CATEGORIES:Women,You Me She
ATTACH;FMTTYPE=image/jpeg:https://encircle.org.au/wp-content/uploads/2023/05/Rag-Making-allangur-Web-Tile-750-x-450-px-1.jpg
GEO:27°13'35.1"S; 153°06'31.3"E
X-APPLE-STRUCTURED-LOCATION;VALUE=URI;X-ADDRESS=Encircle Redcliffe 1 Lamington Drive Redcliffe Queensland 4020 Australia;X-APPLE-RADIUS=500;X-TITLE=1 Lamington Drive:geo: 153°06'31.3"E,27°13'35.1"S
END:VEVENT
BEGIN:VEVENT
DTSTART;TZID=Australia/Brisbane:20230607T093000
DTEND;TZID=Australia/Brisbane:20230607T110000
DTSTAMP:20260421T213852
CREATED:20230524T121344Z
LAST-MODIFIED:20230524T122007Z
UID:10307-1686130200-1686135600@encircle.org.au
SUMMARY:You Me She - Trivia Fun (Kallangur)
DESCRIPTION:You Me She is an inclusive women’s social group. We actively connect\, empower and celebrate all women in our community. \nGrab a friend\, test your knowledge and join us for a fun morning of Trivia\, connection and morning tea. It’s FREE! \nWhen: Wednesday 7 June from 9:30am – 11:00am\nWhere: Encircle Kallangur Neighbourhood Centre (51 Marsden Road\, Kallangur).\nCost: FREE\nMorning tea included. \nPlease book\, as spaces are limited:\nemail: cd@encircle.org.au or call: 07 3465 3200 \n Free Parking and disabled access\n Close to public transport
URL:https://encircle.org.au/events/you-me-she-trivia-fun-kallangur/
LOCATION:Encircle Kallangur\, 51 Marsden Road\, Kallangur\, Queensland\, 4503\, Australia
CATEGORIES:Women,You Me She
ATTACH;FMTTYPE=image/jpeg:https://encircle.org.au/wp-content/uploads/2023/05/Trivia-Web-Tile-750-x-450-px.jpg
END:VEVENT
BEGIN:VEVENT
DTSTART;TZID=Australia/Brisbane:20230508T180000
DTEND;TZID=Australia/Brisbane:20230508T210000
DTSTAMP:20260421T213852
CREATED:20230428T033259Z
LAST-MODIFIED:20251215T042957Z
UID:9409-1683568800-1683579600@encircle.org.au
SUMMARY:Women's Art Social Group (Kallangur)
DESCRIPTION:We invite all women to come and share their love of art and have a chat. Bring your own project. Every Monday night (except public holidays) \nWhere: Encircle Kallangur Neighbourhood centre (51 Marsden Road\, Kallangur)\nWhen: Weekly Monday – 6:00pm – 9:00pm\nCost: FREE \n Free parking and disabled access \nFor more information\, contact the friendly reception at Encircle Kallangur on 07 3465 3200 or email kallangur@encircle.org.au 
URL:https://encircle.org.au/events/womens-art-social-group-kallangur-2023/2023-05-08/
LOCATION:Encircle Kallangur\, 51 Marsden Road\, Kallangur\, Queensland\, 4503\, Australia
CATEGORIES:Groups,Social Events,Women
ATTACH;FMTTYPE=image/png:https://encircle.org.au/wp-content/uploads/2023/04/Womens-art-Group-750-x-450-px-1.png
END:VEVENT
END:VCALENDAR