BEGIN:VCALENDAR
VERSION:2.0
PRODID:-//Encircle - ECPv6.15.20//NONSGML v1.0//EN
CALSCALE:GREGORIAN
METHOD:PUBLISH
X-ORIGINAL-URL:https://encircle.org.au
X-WR-CALDESC:Events for Encircle
REFRESH-INTERVAL;VALUE=DURATION:PT1H
X-Robots-Tag:noindex
X-PUBLISHED-TTL:PT1H
BEGIN:VTIMEZONE
TZID:Australia/Brisbane
BEGIN:STANDARD
TZOFFSETFROM:+1000
TZOFFSETTO:+1000
TZNAME:AEST
DTSTART:20230101T000000
END:STANDARD
END:VTIMEZONE
BEGIN:VEVENT
DTSTART;TZID=Australia/Brisbane:20260424T100000
DTEND;TZID=Australia/Brisbane:20260424T120000
DTSTAMP:20260425T020006
CREATED:20240130T014643Z
LAST-MODIFIED:20260415T022357Z
UID:22571-1777024800-1777032000@encircle.org.au
SUMMARY:Community Garden Group (Redcliffe)
DESCRIPTION:If you have a green thumb\, why not help out as a volunteer gardener. \nJoin our volunteer community gardening group who meets every Friday from 10:00am – 12:00pm at the Encircle Redcliffe Neighbourhood Centre (1 Lamington Drive\, Redcliffe). \nBring a plate to share. Tea/coffee facilities provided. New volunteers welcome. \nContact reception on 07 3284 3081 or email redcliffe@encircle.org.au for any enquires. 
URL:https://encircle.org.au/events/community-garden-group-redcliffe/2026-04-24/
LOCATION:Encircle Redcliffe\, 1 Lamington Drive\, Redcliffe\, Queensland\, 4020\, Australia
CATEGORIES:Resources and Garden
ATTACH;FMTTYPE=image/jpeg:https://encircle.org.au/wp-content/uploads/2024/01/RNC-Community-Garden-Group-.jpg
GEO:27°13'35.1"S; 153°06'31.3"E
X-APPLE-STRUCTURED-LOCATION;VALUE=URI;X-ADDRESS=Encircle Redcliffe 1 Lamington Drive Redcliffe Queensland 4020 Australia;X-APPLE-RADIUS=500;X-TITLE=1 Lamington Drive:geo: 153°06'31.3"E,27°13'35.1"S
END:VEVENT
BEGIN:VEVENT
DTSTART;TZID=Australia/Brisbane:20260417T100000
DTEND;TZID=Australia/Brisbane:20260417T120000
DTSTAMP:20260425T020006
CREATED:20240130T014643Z
LAST-MODIFIED:20260415T022357Z
UID:22570-1776420000-1776427200@encircle.org.au
SUMMARY:Community Garden Group (Redcliffe)
DESCRIPTION:If you have a green thumb\, why not help out as a volunteer gardener. \nJoin our volunteer community gardening group who meets every Friday from 10:00am – 12:00pm at the Encircle Redcliffe Neighbourhood Centre (1 Lamington Drive\, Redcliffe). \nBring a plate to share. Tea/coffee facilities provided. New volunteers welcome. \nContact reception on 07 3284 3081 or email redcliffe@encircle.org.au for any enquires. 
URL:https://encircle.org.au/events/community-garden-group-redcliffe/2026-04-17/
LOCATION:Encircle Redcliffe\, 1 Lamington Drive\, Redcliffe\, Queensland\, 4020\, Australia
CATEGORIES:Resources and Garden
ATTACH;FMTTYPE=image/jpeg:https://encircle.org.au/wp-content/uploads/2024/01/RNC-Community-Garden-Group-.jpg
GEO:27°13'35.1"S; 153°06'31.3"E
X-APPLE-STRUCTURED-LOCATION;VALUE=URI;X-ADDRESS=Encircle Redcliffe 1 Lamington Drive Redcliffe Queensland 4020 Australia;X-APPLE-RADIUS=500;X-TITLE=1 Lamington Drive:geo: 153°06'31.3"E,27°13'35.1"S
END:VEVENT
BEGIN:VEVENT
DTSTART;TZID=Australia/Brisbane:20240202T100000
DTEND;TZID=Australia/Brisbane:20240202T120000
DTSTAMP:20260425T020006
CREATED:20240130T014643Z
LAST-MODIFIED:20260415T022356Z
UID:13416-1706868000-1706875200@encircle.org.au
SUMMARY:Community Garden Group (Redcliffe)
DESCRIPTION:If you have a green thumb\, why not help out as a volunteer gardener. \nJoin our volunteer community gardening group who meets every Friday from 10:00am – 12:00pm at the Encircle Redcliffe Neighbourhood Centre (1 Lamington Drive\, Redcliffe). \nBring a plate to share. Tea/coffee facilities provided. New volunteers welcome. \nContact reception on 07 3284 3081 or email redcliffe@encircle.org.au for any enquires. 
URL:https://encircle.org.au/events/community-garden-group-redcliffe/2024-02-02/
LOCATION:Encircle Redcliffe\, 1 Lamington Drive\, Redcliffe\, Queensland\, 4020\, Australia
CATEGORIES:Resources and Garden
ATTACH;FMTTYPE=image/jpeg:https://encircle.org.au/wp-content/uploads/2024/01/RNC-Community-Garden-Group-.jpg
GEO:27°13'35.1"S; 153°06'31.3"E
X-APPLE-STRUCTURED-LOCATION;VALUE=URI;X-ADDRESS=Encircle Redcliffe 1 Lamington Drive Redcliffe Queensland 4020 Australia;X-APPLE-RADIUS=500;X-TITLE=1 Lamington Drive:geo: 153°06'31.3"E,27°13'35.1"S
END:VEVENT
END:VCALENDAR