BEGIN:VCALENDAR
VERSION:2.0
PRODID:-//Encircle - ECPv5.3.2.1//NONSGML v1.0//EN
CALSCALE:GREGORIAN
METHOD:PUBLISH
X-WR-CALNAME:Encircle
X-ORIGINAL-URL:https://encircle.org.au
X-WR-CALDESC:Events for Encircle
BEGIN:VTIMEZONE
TZID:Australia/Brisbane
BEGIN:STANDARD
TZOFFSETFROM:+1000
TZOFFSETTO:+1000
TZNAME:AEST
DTSTART:20210101T000000
END:STANDARD
END:VTIMEZONE
BEGIN:VEVENT
DTSTART;TZID=Australia/Brisbane:20210423T140000
DTEND;TZID=Australia/Brisbane:20210423T160000
DTSTAMP:20210301T203922
CREATED:20201110T021109Z
LAST-MODIFIED:20201110T021109Z
UID:5263-1619186400-1619193600@encircle.org.au
SUMMARY:Mosaics Group
DESCRIPTION:
URL:https://encircle.org.au/events/mosaics-group/2021-04-23/
LOCATION:Encircle Lawnton\, 865 Gympie Road\, Lawnton\, Queensland\, 4501\, Australia
CATEGORIES:Groups,Social Events
ATTACH;FMTTYPE=image/jpeg:https://encircle.org.au/wp-content/uploads/2020/11/mosaic.jpg
GEO:27°16'40.7"S; 152°58'56.7"E
X-APPLE-STRUCTURED-LOCATION;VALUE=URI;X-ADDRESS=Encircle Lawnton 865 Gympie Road Lawnton Queensland 4501 Australia;X-APPLE-RADIUS=500;X-TITLE=865 Gympie Road:geo: 152°58'56.7"E,27°16'40.7"S
END:VEVENT
END:VCALENDAR