BEGIN:VCALENDAR
VERSION:2.0
PRODID:-//Encircle - ECPv5.3.2.1//NONSGML v1.0//EN
CALSCALE:GREGORIAN
METHOD:PUBLISH
X-WR-CALNAME:Encircle
X-ORIGINAL-URL:https://encircle.org.au
X-WR-CALDESC:Events for Encircle
BEGIN:VTIMEZONE
TZID:Australia/Brisbane
BEGIN:STANDARD
TZOFFSETFROM:+1000
TZOFFSETTO:+1000
TZNAME:AEST
DTSTART:20200101T000000
END:STANDARD
END:VTIMEZONE
BEGIN:VEVENT
DTSTART;TZID=Australia/Brisbane:20201123T090000
DTEND;TZID=Australia/Brisbane:20201123T120000
DTSTAMP:20210301T204005
CREATED:20201110T015800Z
LAST-MODIFIED:20201110T020212Z
UID:5080-1606122000-1606132800@encircle.org.au
SUMMARY:Next Generation Playgroup
DESCRIPTION:
URL:https://encircle.org.au/events/next-generation-playgroup/2020-11-23/
LOCATION:Encircle Lawnton\, 865 Gympie Road\, Lawnton\, Queensland\, 4501\, Australia
CATEGORIES:Community Services
ATTACH;FMTTYPE=image/jpeg:https://encircle.org.au/wp-content/uploads/2020/11/play.jpg
GEO:27°16'40.7"S; 152°58'56.7"E
X-APPLE-STRUCTURED-LOCATION;VALUE=URI;X-ADDRESS=Encircle Lawnton 865 Gympie Road Lawnton Queensland 4501 Australia;X-APPLE-RADIUS=500;X-TITLE=865 Gympie Road:geo: 152°58'56.7"E,27°16'40.7"S
END:VEVENT
END:VCALENDAR